BEGIN:VCALENDAR
VERSION:2.0
METHOD:PUBLISH
PRODID:-//Agenda.ad//NONSGML v1.0//EN
BEGIN:VEVENT
CLASS:PUBLIC
UID:f5486010e36af5c9378c142f443861ef@agenda.ad
DTSTAMP:20260419T202218Z
DTSTART:20260304T230000Z
DTEND:20260304T230000Z
SUMMARY:<h1 class="documentFirstHeading">Mon&ograve;leg: Miss 40 - Cicle Cultural Encamp</h1>
<div id="viewlet-below-content-title">&nbsp;</div>
<div id="viewlet-above-content-body">&nbsp;</div>
<div id="content-core">&nbsp;</div>
DESCRIPTION:\n\nMés informació\nhttps://www.agenda.ad/activitat/encamp
 /mes-cultura/monoleg-miss-40-cicle-cultural-encamp- - - \
 n
LOCATION:Sala de festes del Complex Esportiu i Sociocultural d'Encamp
SEQUENCE:0
TRANSP:OPAQUE
X-ALT-DESC;FMTTYPE=text/html:<!DOCTYPE HTML PUBLIC "-//W3C//DTD HTML 3.2//EN"><HTML><HEAD
 ><TITLE></TITLE></HEAD><BODY><FONT FACE="Arial" SIZE=2><br/>
 <br/><b>Més informació</b><br/><a href="https://www.agenda
 .ad/activitat/encamp/mes-cultura/monoleg-miss-40-cicle-cultu
 ral-encamp- - - ">https://www.agenda.ad/activitat/encamp/
 mes-cultura/monoleg-miss-40-cicle-cultural-encamp- - - </
 a><br/></FONT></BODY></HTML>
END:VEVENT
END:VCALENDAR